BEGIN:VCALENDAR
VERSION:2.0
PRODID:-//Ciência no Ar - Programa de Extensão - UFMG
CALSCALE:GREGORIAN
METHOD:PUBLISH
X-WR-CALNAME:Ciência no Ar - Programa de Extensão - UFMG
X-ORIGINAL-URL:https://www.ufmg.br/ciencianoar/conteudo/de-camundongos-e-ratos/
X-WR-CALDESC:De camundongos e ratos
BEGIN:VEVENT
DTSTART:
DTEND:
SUMMARY:De camundongos e ratos
DESCRIPTION:Para se entender como funciona o corpo humano, seja na saúde ou na doença, é importante saber os caminhos das substâncias envolvidas em cada processo fisiológico do organismo. 
Ouça o programa completo para saber mais sobre esse assunto!
LOCATION:
END:VEVENT
END:VCALENDAR
