BEGIN:VCALENDAR
VERSION:2.0
PRODID:-//Ciência no Ar - Programa de Extensão - UFMG
CALSCALE:GREGORIAN
METHOD:PUBLISH
X-WR-CALNAME:Ciência no Ar - Programa de Extensão - UFMG
X-ORIGINAL-URL:https://www.ufmg.br/ciencianoar/conteudo/de-flor-em-flor/
X-WR-CALDESC:De flor em flor
BEGIN:VEVENT
DTSTART:
DTEND:
SUMMARY:De flor em flor
DESCRIPTION:Todo mundo já viu uma abelha batendo suas asinhas e indo de flor em flor. Mas o que está por trás desse simples gesto?
Ouça o programa completo para saber mais sobre esse assunto!

LOCATION:
END:VEVENT
END:VCALENDAR
