BEGIN:VCALENDAR
VERSION:2.0
PRODID:-//Ciência no Ar - Programa de Extensão - UFMG
CALSCALE:GREGORIAN
METHOD:PUBLISH
X-WR-CALNAME:Ciência no Ar - Programa de Extensão - UFMG
X-ORIGINAL-URL:https://www.ufmg.br/ciencianoar/conteudo/de-volta-para-o-passado/
X-WR-CALDESC:De volta para o passado
BEGIN:VEVENT
DTSTART:
DTEND:
SUMMARY:De volta para o passado
DESCRIPTION:Se você acha que parque dos dinossauros é apenas coisa de Hollywood, saiba que existe muita gente de verdade estudando esses tipos de animais. 
Ouça o programa completo para saber mais sobre esse assunto!
LOCATION:
END:VEVENT
END:VCALENDAR
