BEGIN:VCALENDAR
VERSION:2.0
PRODID:-//Ciência no Ar - Programa de Extensão - UFMG
CALSCALE:GREGORIAN
METHOD:PUBLISH
X-WR-CALNAME:Ciência no Ar - Programa de Extensão - UFMG
X-ORIGINAL-URL:https://www.ufmg.br/ciencianoar/conteudo/a-alma-e-a-materia-2/
X-WR-CALDESC:A alma e a matéria
BEGIN:VEVENT
DTSTART:20170202T000000
DTEND:
SUMMARY:A alma e a matéria
DESCRIPTION:Há algo invisível encantado - e científico - em todas as coisas. Nos nossos sorrisos, nossos poros, nos jardins, na beira do mar e também no ar. Você já parou para reparar?
Ouça o programa completo para saber mais sobre esse assunto!
LOCATION:
END:VEVENT
END:VCALENDAR
