BEGIN:VCALENDAR
VERSION:2.0
PRODID:-//Ciência no Ar - Programa de Extensão - UFMG
CALSCALE:GREGORIAN
METHOD:PUBLISH
X-WR-CALNAME:Ciência no Ar - Programa de Extensão - UFMG
X-ORIGINAL-URL:https://www.ufmg.br/ciencianoar/conteudo/miedo/
X-WR-CALDESC:Miedo
BEGIN:VEVENT
DTSTART:
DTEND:
SUMMARY:Miedo
DESCRIPTION:Você já se perguntou por que o rato tem medo do gato desde o seu nascimento? Como ele tem medo de algo que nunca viu?
Ouça o programa completo para saber mais sobre esse assunto!
LOCATION:
END:VEVENT
END:VCALENDAR
