BEGIN:VCALENDAR
VERSION:2.0
PRODID:-//Ciência no Ar - Programa de Extensão - UFMG
CALSCALE:GREGORIAN
METHOD:PUBLISH
X-WR-CALNAME:Ciência no Ar - Programa de Extensão - UFMG
X-ORIGINAL-URL:https://www.ufmg.br/ciencianoar/conteudo/a-falacia-do-eucalipto/
X-WR-CALDESC:A falácia do Eucalipto
BEGIN:VEVENT
DTSTART:
DTEND:
SUMMARY:A falácia do Eucalipto
DESCRIPTION:Você já deve ter ouvido falar que uma plantação de eucalipto é equivalente a uma floresta. Mas isso não é verdade. Essa idéia é tão equivocada quanto dizer que a Amazônia é o pulmão do mundo. 
LOCATION:
END:VEVENT
END:VCALENDAR
