BEGIN:VCALENDAR
VERSION:2.0
PRODID:-//Ciência no Ar - Programa de Extensão - UFMG
CALSCALE:GREGORIAN
METHOD:PUBLISH
X-WR-CALNAME:Ciência no Ar - Programa de Extensão - UFMG
X-ORIGINAL-URL:https://www.ufmg.br/ciencianoar/conteudo/o-que-e-limnologia/
X-WR-CALDESC:O que é limnologia?
BEGIN:VEVENT
DTSTART:
DTEND:
SUMMARY:O que é limnologia?
DESCRIPTION:Saiba com este programa o que significa esta palavra
LOCATION:
END:VEVENT
END:VCALENDAR
