BEGIN:VCALENDAR
VERSION:2.0
PRODID:-//Ciência no Ar - Programa de Extensão - UFMG
CALSCALE:GREGORIAN
METHOD:PUBLISH
X-WR-CALNAME:Ciência no Ar - Programa de Extensão - UFMG
X-ORIGINAL-URL:https://www.ufmg.br/ciencianoar/conteudo/desvendando-o-coco/
X-WR-CALDESC:Desvendando o cocô
BEGIN:VEVENT
DTSTART:
DTEND:
SUMMARY:Desvendando o cocô
DESCRIPTION:Nós sabemos que muitos ouvintes torcerão o nariz ao ouvirem isso, outros acharão estranho ou até engraçado. Mas a ciência de estudar o cocô tem até nome próprio: coprologia.
Ouça o programa completo para saber mais sobre esse assunto!
LOCATION:
END:VEVENT
END:VCALENDAR
