BEGIN:VCALENDAR
VERSION:2.0
PRODID:-//Ciência no Ar - Programa de Extensão - UFMG
CALSCALE:GREGORIAN
METHOD:PUBLISH
X-WR-CALNAME:Ciência no Ar - Programa de Extensão - UFMG
X-ORIGINAL-URL:https://www.ufmg.br/ciencianoar/conteudo/caleidoscopio/
X-WR-CALDESC:Caleidoscópio
BEGIN:VEVENT
DTSTART:
DTEND:
SUMMARY:Caleidoscópio
DESCRIPTION:Você já parou para pensar como funciona a sua respiração? 
Ouça o programa completo para saber mais sobre esse assunto!
LOCATION:
END:VEVENT
END:VCALENDAR
