BEGIN:VCALENDAR
VERSION:2.0
PRODID:-//Ciência no Ar - Programa de Extensão - UFMG
CALSCALE:GREGORIAN
METHOD:PUBLISH
X-WR-CALNAME:Ciência no Ar - Programa de Extensão - UFMG
X-ORIGINAL-URL:https://www.ufmg.br/ciencianoar/conteudo/so-se-for-a-dois/
X-WR-CALDESC:Só se for a dois
BEGIN:VEVENT
DTSTART:
DTEND:
SUMMARY:Só se for a dois
DESCRIPTION:Você já se perguntou por que de todas as cores que existem como amarelo, azul, verde, o nosso sangue é especificamente da cor vermelha? Ouça o programa completo para saber mais sobre esse assunto!
LOCATION:
END:VEVENT
END:VCALENDAR
