BEGIN:VCALENDAR
VERSION:2.0
PRODID:-//Ciência no Ar - Programa de Extensão - UFMG
CALSCALE:GREGORIAN
METHOD:PUBLISH
X-WR-CALNAME:Ciência no Ar - Programa de Extensão - UFMG
X-ORIGINAL-URL:https://www.ufmg.br/ciencianoar/conteudo/socorro/
X-WR-CALDESC:Socorro
BEGIN:VEVENT
DTSTART:
DTEND:
SUMMARY:Socorro
DESCRIPTION:Algumas pessoas são mais sentimentais do que outras, mas há uma condição genética que resulta em uma "falta de sentimento", é o autismo. Ouça o programa completo para saber mais sobre esse assunto!
LOCATION:
END:VEVENT
END:VCALENDAR
