BEGIN:VCALENDAR
VERSION:2.0
PRODID:-//Ciência no Ar - Programa de Extensão - UFMG
CALSCALE:GREGORIAN
METHOD:PUBLISH
X-WR-CALNAME:Ciência no Ar - Programa de Extensão - UFMG
X-ORIGINAL-URL:https://www.ufmg.br/ciencianoar/conteudo/joao-e-maria/
X-WR-CALDESC:João e Maria
BEGIN:VEVENT
DTSTART:
DTEND:
SUMMARY:João e Maria
DESCRIPTION:Você sabe o que é um tardígrado? Acredite se quiser, mas ele pode ficar até 10 anos sem ter contato com a água! Ouça o programa completo para saber mais sobre esse assunto!
LOCATION:
END:VEVENT
END:VCALENDAR
