BEGIN:VCALENDAR
VERSION:2.0
PRODID:-//Ciência no Ar - Programa de Extensão - UFMG
CALSCALE:GREGORIAN
METHOD:PUBLISH
X-WR-CALNAME:Ciência no Ar - Programa de Extensão - UFMG
X-ORIGINAL-URL:https://www.ufmg.br/ciencianoar/conteudo/no-escuro-e-vendo/
X-WR-CALDESC:No escuro e vendo
BEGIN:VEVENT
DTSTART:
DTEND:
SUMMARY:No escuro e vendo
DESCRIPTION:Enxergar no escuro é bem difícil, mas não impossível? Você sabe como realizar essa façanha?
Ouça o programa completo para saber mais sobre esse assunto!
LOCATION:
END:VEVENT
END:VCALENDAR
