BEGIN:VCALENDAR
VERSION:2.0
PRODID:-//Ciência no Ar - Programa de Extensão - UFMG
CALSCALE:GREGORIAN
METHOD:PUBLISH
X-WR-CALNAME:Ciência no Ar - Programa de Extensão - UFMG
X-ORIGINAL-URL:https://www.ufmg.br/ciencianoar/conteudo/to-passando-mal/
X-WR-CALDESC:Tô passando mal
BEGIN:VEVENT
DTSTART:
DTEND:
SUMMARY:Tô passando mal
DESCRIPTION:Nesta música o homem quase enfartou ao saber que estava sendo traído! Mas não é apenas uma traição que desencadeia problemas cardiovasculares como o infarto do miocárdio, também conhecido como o famoso "ataque cardíaco"!
 Ouça o programa completo para saber mais sobre esse assunto!
LOCATION:
END:VEVENT
END:VCALENDAR
