BEGIN:VCALENDAR
VERSION:2.0
PRODID:-//Ciência no Ar - Programa de Extensão - UFMG
CALSCALE:GREGORIAN
METHOD:PUBLISH
X-WR-CALNAME:Ciência no Ar - Programa de Extensão - UFMG
X-ORIGINAL-URL:https://www.ufmg.br/ciencianoar/conteudo/2934/
X-WR-CALDESC:O vento
BEGIN:VEVENT
DTSTART:
DTEND:
SUMMARY:O vento
DESCRIPTION:Conheça um pouco mais sobra a romã, uma fruta cujos benefícios vão além das superstições e simpatias envolvendo o amor e o  de dinheiro! Ouça o programa completo para saber mais sobre esse assunto!
LOCATION:
END:VEVENT
END:VCALENDAR
