BEGIN:VCALENDAR
VERSION:2.0
PRODID:-//Ciência no Ar - Programa de Extensão - UFMG
CALSCALE:GREGORIAN
METHOD:PUBLISH
X-WR-CALNAME:Ciência no Ar - Programa de Extensão - UFMG
X-ORIGINAL-URL:https://www.ufmg.br/ciencianoar/conteudo/o-sal-da-terra/
X-WR-CALDESC:O Sal da Terra
BEGIN:VEVENT
DTSTART:
DTEND:
SUMMARY:O Sal da Terra
DESCRIPTION:Você sabe o que a  banda Roupa Nova e Ivete Sangalo quiseram representar com o "Sal da Terra" citado na música ?
 Ouça o programa completo para saber mais sobre esse assunto!
LOCATION:
END:VEVENT
END:VCALENDAR
