BEGIN:VCALENDAR
VERSION:2.0
PRODID:-//Ciência no Ar - Programa de Extensão - UFMG
CALSCALE:GREGORIAN
METHOD:PUBLISH
X-WR-CALNAME:Ciência no Ar - Programa de Extensão - UFMG
X-ORIGINAL-URL:https://www.ufmg.br/ciencianoar/conteudo/2971/
X-WR-CALDESC:Os Parasitas da Periferia
BEGIN:VEVENT
DTSTART:
DTEND:
SUMMARY:Os Parasitas da Periferia
DESCRIPTION:Você sabe o que é um projeto de extensão? E como ele funciona? Esses projetos são uma importante ferramenta de informação e integram a comunidade aos centros acadêmicos.
Ouça o programa completo para saber mais sobre o assunto!
LOCATION:
END:VEVENT
END:VCALENDAR
