BEGIN:VCALENDAR
VERSION:2.0
PRODID:-//Ciência no Ar - Programa de Extensão - UFMG
CALSCALE:GREGORIAN
METHOD:PUBLISH
X-WR-CALNAME:Ciência no Ar - Programa de Extensão - UFMG
X-ORIGINAL-URL:https://www.ufmg.br/ciencianoar/conteudo/papo-de-cromossomo/
X-WR-CALDESC:Papo de cromossomo
BEGIN:VEVENT
DTSTART:
DTEND:
SUMMARY:Papo de cromossomo
DESCRIPTION:Diferentes grupos de animais apresentam diferentes cariótipos, que podem inclusive variar muito dentro de uma espécie. Mas o que isso significa? E o que essa informação representa para a ciência?
Ouça o programa completo para saber mais sobre o assunto!
LOCATION:
END:VEVENT
END:VCALENDAR
