BEGIN:VCALENDAR
VERSION:2.0
PRODID:-//Ciência no Ar - Programa de Extensão - UFMG
CALSCALE:GREGORIAN
METHOD:PUBLISH
X-WR-CALNAME:Ciência no Ar - Programa de Extensão - UFMG
X-ORIGINAL-URL:https://www.ufmg.br/ciencianoar/conteudo/parasitas-sem-sinal/
X-WR-CALDESC:Parasitas sem sinal
BEGIN:VEVENT
DTSTART:
DTEND:
SUMMARY:Parasitas sem sinal
DESCRIPTION:O parasitismo é uma das relações ecológicas presentes na natureza. Em alguns casos, os parasitas podem causar prejuízos aos seus hospedeiros.
Ouça o programa completo para saber mais sobre o assunto!
LOCATION:
END:VEVENT
END:VCALENDAR
