BEGIN:VCALENDAR
VERSION:2.0
PRODID:-//Ciência no Ar - Programa de Extensão - UFMG
CALSCALE:GREGORIAN
METHOD:PUBLISH
X-WR-CALNAME:Ciência no Ar - Programa de Extensão - UFMG
X-ORIGINAL-URL:https://www.ufmg.br/ciencianoar/conteudo/perdas-no-cerrado/
X-WR-CALDESC:Perdas no Cerrado
BEGIN:VEVENT
DTSTART:
DTEND:
SUMMARY:Perdas no Cerrado
DESCRIPTION:A invasão de ecossistemas por espécies exóticas é um grande risco ao meio ambiente. O Cerrado está entre os ecossistemas que mais são afetados por esse problema. 
Ouça o programa completo para saber mais sobre o assunto!
LOCATION:
END:VEVENT
END:VCALENDAR
