BEGIN:VCALENDAR
VERSION:2.0
PRODID:-//Ciência no Ar - Programa de Extensão - UFMG
CALSCALE:GREGORIAN
METHOD:PUBLISH
X-WR-CALNAME:Ciência no Ar - Programa de Extensão - UFMG
X-ORIGINAL-URL:https://www.ufmg.br/ciencianoar/conteudo/lagrimas-e-chuva/
X-WR-CALDESC:Lágrimas e Chuva
BEGIN:VEVENT
DTSTART:
DTEND:
SUMMARY:Lágrimas e Chuva
DESCRIPTION:Por que choramos? Lágrima é tudo igual? De onde vêm as lágrimas?
Ouça o programa completo para saber mais sobre o assunto!
LOCATION:
END:VEVENT
END:VCALENDAR
