BEGIN:VCALENDAR
VERSION:2.0
PRODID:-//Ciência no Ar - Programa de Extensão - UFMG
CALSCALE:GREGORIAN
METHOD:PUBLISH
X-WR-CALNAME:Ciência no Ar - Programa de Extensão - UFMG
X-ORIGINAL-URL:https://www.ufmg.br/ciencianoar/conteudo/dinossauros/
X-WR-CALDESC:Dinossauros
BEGIN:VEVENT
DTSTART:
DTEND:
SUMMARY:Dinossauros
DESCRIPTION:A extinção dos dinossauros é um fato que ainda desperta muita curiosidade, inclusive entre os cientistas. Teria sido mesmo um meteoro gigante o responsável pelo desaparecimento desses gigantes? Há outras hipóteses para explicar essa extinção?
Ouça o programa completo para saber mais sobre o assunto!
LOCATION:
END:VEVENT
END:VCALENDAR
