BEGIN:VCALENDAR
VERSION:2.0
PRODID:-//Ciência no Ar - Programa de Extensão - UFMG
CALSCALE:GREGORIAN
METHOD:PUBLISH
X-WR-CALNAME:Ciência no Ar - Programa de Extensão - UFMG
X-ORIGINAL-URL:https://www.ufmg.br/ciencianoar/conteudo/cigarra/
X-WR-CALDESC:Cigarra
BEGIN:VEVENT
DTSTART:
DTEND:
SUMMARY:Cigarra
DESCRIPTION:Você gosta do canto de uma cigarra? Gostando ou não, elas cantam para se reproduzir e afastar predadores. O som que ouvimos é produzido por uma vibração que somente os machos são capazes de fazer e o som chega a 120 decibéis. Bastante alto, não é? As cigarras também acham!
Ouça o programa completo para saber mais sobre esse assunto!
LOCATION:
END:VEVENT
END:VCALENDAR
