BEGIN:VCALENDAR
VERSION:2.0
PRODID:-//Ciência no Ar - Programa de Extensão - UFMG
CALSCALE:GREGORIAN
METHOD:PUBLISH
X-WR-CALNAME:Ciência no Ar - Programa de Extensão - UFMG
X-ORIGINAL-URL:https://www.ufmg.br/ciencianoar/conteudo/codinome-beija-flor/
X-WR-CALDESC:Codinome Beija-Flor
BEGIN:VEVENT
DTSTART:
DTEND:
SUMMARY:Codinome Beija-Flor
DESCRIPTION:Sabe o que o beija-flor faz em suas visitas às flores? Ele se alimenta do néctar, um líquido doce que as plantas produzem e que atrai animais polinizadores. Esses animais, como o beija-flor, espalham o pólen das flores, promovendo a polinização, ou seja, a reprodução das plantas.
Ouça o programa completo para saber mais sobre esse assunto!
LOCATION:
END:VEVENT
END:VCALENDAR
