BEGIN:VCALENDAR
VERSION:2.0
PRODID:-//Ciência no Ar - Programa de Extensão - UFMG
CALSCALE:GREGORIAN
METHOD:PUBLISH
X-WR-CALNAME:Ciência no Ar - Programa de Extensão - UFMG
X-ORIGINAL-URL:https://www.ufmg.br/ciencianoar/conteudo/denils-pilantra/
X-WR-CALDESC:Denil&#8217;s pilantra
BEGIN:VEVENT
DTSTART:
DTEND:
SUMMARY:Denil&#8217;s pilantra
DESCRIPTION:As lombrigas vivem no intestino e ficam ali, roubando o que a gente come. Esse não é o único problema que esses parasitas causam: dependendo de onde eles crescerem, podem prejudicar o funcionamento de outros órgãos do nosso corpo. Você sabe como é o ciclo de vida de uma lombriga? 
Ouça o programa completo para saber mais sobre esse assunto!
LOCATION:
END:VEVENT
END:VCALENDAR
