BEGIN:VCALENDAR
VERSION:2.0
PRODID:-//Ciência no Ar - Programa de Extensão - UFMG
CALSCALE:GREGORIAN
METHOD:PUBLISH
X-WR-CALNAME:Ciência no Ar - Programa de Extensão - UFMG
X-ORIGINAL-URL:https://www.ufmg.br/ciencianoar/conteudo/dom-quixote/
X-WR-CALDESC:Dom Quixote
BEGIN:VEVENT
DTSTART:
DTEND:
SUMMARY:Dom Quixote
DESCRIPTION:Será que peixe bebe água? E xixi? Eles fazem? Sim e sim, mas esses processos são diferentes para peixes de água doce e peixes de água salgada. Isso porque a concentração de sais na água pode ser maior ou menor que no interior dos corpos dos peixes.
Ouça o programa completo para saber mais sobre esse assunto!
LOCATION:
END:VEVENT
END:VCALENDAR
