BEGIN:VCALENDAR
VERSION:2.0
PRODID:-//Ciência no Ar - Programa de Extensão - UFMG
CALSCALE:GREGORIAN
METHOD:PUBLISH
X-WR-CALNAME:Ciência no Ar - Programa de Extensão - UFMG
X-ORIGINAL-URL:https://www.ufmg.br/ciencianoar/conteudo/evaporar/
X-WR-CALDESC:Evaporar
BEGIN:VEVENT
DTSTART:
DTEND:
SUMMARY:Evaporar
DESCRIPTION:A água não para! Além de ser um líquido nada viscoso nem fácil de conter, esse líquido está o tempo todo mudando de líquido para gasoso e de gasoso para líquido na atmosfera. Isso acontece com as águas de lagoas, rios, oceanos e em poças d'água também.
Ouça o programa completo para saber mais sobre esse assunto!
LOCATION:
END:VEVENT
END:VCALENDAR
