BEGIN:VCALENDAR
VERSION:2.0
PRODID:-//Ciência no Ar - Programa de Extensão - UFMG
CALSCALE:GREGORIAN
METHOD:PUBLISH
X-WR-CALNAME:Ciência no Ar - Programa de Extensão - UFMG
X-ORIGINAL-URL:https://www.ufmg.br/ciencianoar/conteudo/flores/
X-WR-CALDESC:Flores
BEGIN:VEVENT
DTSTART:
DTEND:
SUMMARY:Flores
DESCRIPTION:Algumas plantas chamam insetos para o almoço, sabia? Como forma de facilitar também a polinização e a reprodução, algumas plantas mudam de cor quando o néctar está disponível para seus polinizadores. As novas cores atraem os polinizadores e todo mundo sai ganhando!
Ouça o programa completo para saber mais sobre esse assunto!
LOCATION:
END:VEVENT
END:VCALENDAR
