BEGIN:VCALENDAR
VERSION:2.0
PRODID:-//Ciência no Ar - Programa de Extensão - UFMG
CALSCALE:GREGORIAN
METHOD:PUBLISH
X-WR-CALNAME:Ciência no Ar - Programa de Extensão - UFMG
X-ORIGINAL-URL:https://www.ufmg.br/ciencianoar/conteudo/a-corujinha/
X-WR-CALDESC:A Corujinha
BEGIN:VEVENT
DTSTART:
DTEND:
SUMMARY:A Corujinha
DESCRIPTION:
LOCATION:
END:VEVENT
END:VCALENDAR
