BEGIN:VCALENDAR
VERSION:2.0
PRODID:-//Ciência no Ar - Programa de Extensão - UFMG
CALSCALE:GREGORIAN
METHOD:PUBLISH
X-WR-CALNAME:Ciência no Ar - Programa de Extensão - UFMG
X-ORIGINAL-URL:https://www.ufmg.br/ciencianoar/conteudo/uma-ja-basta/
X-WR-CALDESC:Uma já basta?
BEGIN:VEVENT
DTSTART:
DTEND:
SUMMARY:Uma já basta?
DESCRIPTION:As aranhas, em sua maioria, são solitárias. Porém, quando nascem elas vivem juntas e permanecem assim por um pequeno período enquanto são protegidas e alimentadas pela mãe, fora isso, elas voltam a interagir só no acasalamento.
Ouça o programa completo para saber mais sobre o assunto!
LOCATION:
END:VEVENT
END:VCALENDAR
