BEGIN:VCALENDAR
VERSION:2.0
PRODID:-//Ciência no Ar - Programa de Extensão - UFMG
CALSCALE:GREGORIAN
METHOD:PUBLISH
X-WR-CALNAME:Ciência no Ar - Programa de Extensão - UFMG
X-ORIGINAL-URL:https://www.ufmg.br/ciencianoar/conteudo/bandolins/
X-WR-CALDESC:Bandolins
BEGIN:VEVENT
DTSTART:
DTEND:
SUMMARY:Bandolins
DESCRIPTION:Dançar nos proporciona sensações muito boas, não é mesmo?! Mas, você sabia que ao dançarmos, além de queimarmos calorias e deixar nosso corpo em forma, também estimulamos nosso raciocínio ?
Ouça o programa completo para saber mais sobre esse assunto!
LOCATION:
END:VEVENT
END:VCALENDAR
