BEGIN:VCALENDAR
VERSION:2.0
PRODID:-//Ciência no Ar - Programa de Extensão - UFMG
CALSCALE:GREGORIAN
METHOD:PUBLISH
X-WR-CALNAME:Ciência no Ar - Programa de Extensão - UFMG
X-ORIGINAL-URL:https://www.ufmg.br/ciencianoar/conteudo/luz-dos-olhos/
X-WR-CALDESC:Luz dos Olhos
BEGIN:VEVENT
DTSTART:
DTEND:
SUMMARY:Luz dos Olhos
DESCRIPTION:O olho humano é um órgão extremamente complexo. O olho atua como uma câmera, coletando, focando luz e convertendo a luz em um sinal elétrico que é traduzido em imagens pelo cérebro. A luz atravessa a córnea, segue através do cristalino e atinge a retina. Ali, as células fotorreceptoras realizam as conversões químicas que sensibilizam a retina para formar as imagens.
Ouça o programa completo para saber mais sobre esse assunto!
LOCATION:
END:VEVENT
END:VCALENDAR
