BEGIN:VCALENDAR
VERSION:2.0
PRODID:-//Ciência no Ar - Programa de Extensão - UFMG
CALSCALE:GREGORIAN
METHOD:PUBLISH
X-WR-CALNAME:Ciência no Ar - Programa de Extensão - UFMG
X-ORIGINAL-URL:https://www.ufmg.br/ciencianoar/conteudo/a-forca-dos-ventos/
X-WR-CALDESC:A força dos ventos
BEGIN:VEVENT
DTSTART:
DTEND:
SUMMARY:A força dos ventos
DESCRIPTION:Você já viu alguma imagem que mostra uma série de cataventos gigantes em um campo ou no mar? Então você provavelmente viu uma foto de turbinas eólicas! Estas turbinas são capazes de transformar a energia do movimento das hélices em  energia elétrica.  Ouça o programa completo para saber mais sobre o assunto!

LOCATION:
END:VEVENT
END:VCALENDAR
