BEGIN:VCALENDAR
VERSION:2.0
PRODID:-//Ciência no Ar - Programa de Extensão - UFMG
CALSCALE:GREGORIAN
METHOD:PUBLISH
X-WR-CALNAME:Ciência no Ar - Programa de Extensão - UFMG
X-ORIGINAL-URL:https://www.ufmg.br/ciencianoar/conteudo/fumaca-magica/
X-WR-CALDESC:Fumaça Mágica
BEGIN:VEVENT
DTSTART:
DTEND:
SUMMARY:Fumaça Mágica
DESCRIPTION:Você já deve ter ouvido falar no gelo seco. Ele é o responsável pela fumaças usadas em pistas de dança, shows e bebidas. Mas como um gelo pode virar fumaça? 
O gelo seco não é o mesmo gelo feito de água que colocamos nos congelador, este é composto por dióxido de carbono (CO2) que é resfriado em uma temperatura muito baixa. Ouça o programa completo para saber mais sobre o assunto!
LOCATION:
END:VEVENT
END:VCALENDAR
