BEGIN:VCALENDAR
VERSION:2.0
PRODID:-//Ciência no Ar - Programa de Extensão - UFMG
CALSCALE:GREGORIAN
METHOD:PUBLISH
X-WR-CALNAME:Ciência no Ar - Programa de Extensão - UFMG
X-ORIGINAL-URL:https://www.ufmg.br/ciencianoar/conteudo/fungos-extremofilos/
X-WR-CALDESC:Fungos Extremófilos
BEGIN:VEVENT
DTSTART:
DTEND:
SUMMARY:Fungos Extremófilos
DESCRIPTION:É difícil de imaginar que algum ser vivo consiga sobreviver em ambientes considerados extremos, com temperaturas muito altas ou muito baixas, mas alguns fungos são capazes de suportar essas e outras condições.  Neste programa, as doutorandas Vivian Gonçalves e Iara Santiago nos contam um pouco sobre o seu trabalho com esses interessantes fungos. Ouça o programa completo para saber mais sobre o assunto!
LOCATION:
END:VEVENT
END:VCALENDAR
