BEGIN:VCALENDAR
VERSION:2.0
PRODID:-//Ciência no Ar - Programa de Extensão - UFMG
CALSCALE:GREGORIAN
METHOD:PUBLISH
X-WR-CALNAME:Ciência no Ar - Programa de Extensão - UFMG
X-ORIGINAL-URL:https://www.ufmg.br/ciencianoar/conteudo/e-brincando-que-se-aprende/
X-WR-CALDESC:É brincando que se aprende
BEGIN:VEVENT
DTSTART:
DTEND:
SUMMARY:É brincando que se aprende
DESCRIPTION:Você sabia que não são só crianças que têm o costume de brincar?  Esse comportamento é observado em jovens de outros mamíferos e até de aves! Ouça o programa para saber mais sobre esse assunto!


LOCATION:
END:VEVENT
END:VCALENDAR
