BEGIN:VCALENDAR
VERSION:2.0
PRODID:-//Ciência no Ar - Programa de Extensão - UFMG
CALSCALE:GREGORIAN
METHOD:PUBLISH
X-WR-CALNAME:Ciência no Ar - Programa de Extensão - UFMG
X-ORIGINAL-URL:https://www.ufmg.br/ciencianoar/conteudo/e-finalmente-o-coco/
X-WR-CALDESC:E finalmente, o cocô!
BEGIN:VEVENT
DTSTART:
DTEND:
SUMMARY:E finalmente, o cocô!
DESCRIPTION:O intestino delgado é estreito e muito longo, podendo atingir até 8 metros de comprimento. Ele é dividido em três regiões: duodeno, jejuno e íleo. Mas para que todo esse tamanho?  Ouça o programa para saber mais sobre esse assunto!

LOCATION:
END:VEVENT
END:VCALENDAR
