BEGIN:VCALENDAR
VERSION:2.0
PRODID:-//Ciência no Ar - Programa de Extensão - UFMG
CALSCALE:GREGORIAN
METHOD:PUBLISH
X-WR-CALNAME:Ciência no Ar - Programa de Extensão - UFMG
X-ORIGINAL-URL:https://www.ufmg.br/ciencianoar/conteudo/e-peixe-pisca/
X-WR-CALDESC:E peixe pisca?
BEGIN:VEVENT
DTSTART:
DTEND:
SUMMARY:E peixe pisca?
DESCRIPTION:Os peixes vivem a vida toda de olhos bem abertos. Isso acontece porque, em geral, não possuem pálpebras. As pálpebras, que são essas pelinhas que abrem e fecham os olhos, são responsáveis pela lubrificação e limpeza dos olhos. Elas estão presentes na maioria dos animais vertebrados. Como será que os peixes fazem, se eles não piscam? Ouça o programa para saber mais sobre esse assunto!
LOCATION:
END:VEVENT
END:VCALENDAR
