BEGIN:VCALENDAR
VERSION:2.0
PRODID:-//Ciência no Ar - Programa de Extensão - UFMG
CALSCALE:GREGORIAN
METHOD:PUBLISH
X-WR-CALNAME:Ciência no Ar - Programa de Extensão - UFMG
X-ORIGINAL-URL:https://www.ufmg.br/ciencianoar/conteudo/gas-magico/
X-WR-CALDESC:Gás Mágico
BEGIN:VEVENT
DTSTART:
DTEND:
SUMMARY:Gás Mágico
DESCRIPTION:O etileno é um hormônio gasoso que é produzido por diferentes tecidos vegetais. Além de ser essencial para um fruto amadurecer esse gás também tem outras funções, o etileno orienta a germinação de sementes, promove a mudança de cor nas folhas e ainda conduz o envelhecimento  e queda das pétalas de uma flor.  Ouça o programa completo para saber mais sobre o assunto!
LOCATION:
END:VEVENT
END:VCALENDAR
