BEGIN:VCALENDAR
VERSION:2.0
PRODID:-//Ciência no Ar - Programa de Extensão - UFMG
CALSCALE:GREGORIAN
METHOD:PUBLISH
X-WR-CALNAME:Ciência no Ar - Programa de Extensão - UFMG
X-ORIGINAL-URL:https://www.ufmg.br/ciencianoar/conteudo/lipidios/
X-WR-CALDESC:Lipídios podem ser heróis, não só vilões
BEGIN:VEVENT
DTSTART:
DTEND:
SUMMARY:Lipídios podem ser heróis, não só vilões
DESCRIPTION:Observamos hoje em dia uma valorização crescente e quase uma beatificação dos alimentos zero por cento gordura, mas ao mesmo tempo cresce a incidência de distúrbios alimentares graves como a anorexia e a bulimia, estamos vivendo a ditadura do mundo magro. O mundo lipofóbico. Mas os lipídios não são apenas vilões, pois possuem funções importantes no nosso organismo.  Ouça o programa completo para saber mais sobre o assunto!
LOCATION:
END:VEVENT
END:VCALENDAR
