BEGIN:VCALENDAR
VERSION:2.0
PRODID:-//Ciência no Ar - Programa de Extensão - UFMG
CALSCALE:GREGORIAN
METHOD:PUBLISH
X-WR-CALNAME:Ciência no Ar - Programa de Extensão - UFMG
X-ORIGINAL-URL:https://www.ufmg.br/ciencianoar/conteudo/bate-coracao-2/
X-WR-CALDESC:Bate Coração
BEGIN:VEVENT
DTSTART:
DTEND:
SUMMARY:Bate Coração
DESCRIPTION:Você pode até não perceber, mas seu coração está batendo neste momento, levando sangue para todo o corpo. Esse órgão, que tem mais ou menos o tamanho da sua mão fechada, é bem diferente do bonito coração vermelho e simétrico desenhado por apaixonados. Ouça o programa para saber mais sobre esse assunto!


LOCATION:
END:VEVENT
END:VCALENDAR
