BEGIN:VCALENDAR
VERSION:2.0
PRODID:-//Ciência no Ar - Programa de Extensão - UFMG
CALSCALE:GREGORIAN
METHOD:PUBLISH
X-WR-CALNAME:Ciência no Ar - Programa de Extensão - UFMG
X-ORIGINAL-URL:https://www.ufmg.br/ciencianoar/conteudo/beija-sapo/
X-WR-CALDESC:Beija Sapo
BEGIN:VEVENT
DTSTART:
DTEND:
SUMMARY:Beija Sapo
DESCRIPTION:Você deve conhecer aquela velha história da mulher que beijou um sapo e ele se tornou um belo príncipe, não é mesmo? Na vida real, ao beijar um sapo, é bem improvável que ele vire um príncipe. Ouça o programa para saber mais sobre esse assunto!

LOCATION:
END:VEVENT
END:VCALENDAR
