BEGIN:VCALENDAR
VERSION:2.0
PRODID:-//Ciência no Ar - Programa de Extensão - UFMG
CALSCALE:GREGORIAN
METHOD:PUBLISH
X-WR-CALNAME:Ciência no Ar - Programa de Extensão - UFMG
X-ORIGINAL-URL:https://www.ufmg.br/ciencianoar/conteudo/biocombustivel-de-algas/
X-WR-CALDESC:Biocombustível de algas?!
BEGIN:VEVENT
DTSTART:
DTEND:
SUMMARY:Biocombustível de algas?!
DESCRIPTION:Muitas pesquisas atuais buscam descobrir como utilizar fontes renováveis e não poluentes para a produção de combustíveis. Uma alternativa desenvolvida por cientistas de várias partes do mundo é a produção de biodiesel por meio do óleo extraído do cultivo de algas. Mas quais são as vantagens dessa alternativa? Ouça o programa para saber mais sobre esse assunto!

LOCATION:
END:VEVENT
END:VCALENDAR
