BEGIN:VCALENDAR
VERSION:2.0
PRODID:-//Ciência no Ar - Programa de Extensão - UFMG
CALSCALE:GREGORIAN
METHOD:PUBLISH
X-WR-CALNAME:Ciência no Ar - Programa de Extensão - UFMG
X-ORIGINAL-URL:https://www.ufmg.br/ciencianoar/conteudo/bioinformatica-livre/
X-WR-CALDESC:Bioinformática livre
BEGIN:VEVENT
DTSTART:
DTEND:
SUMMARY:Bioinformática livre
DESCRIPTION:Você já ouviu falar em bioinformática? Ela utiliza ferramentas computacionais para analisar e salvar dados genéticos, bioquímicos e moleculares dos mais diversos organismos. Ouça o programa para saber mais sobre esse assunto!


LOCATION:
END:VEVENT
END:VCALENDAR
