BEGIN:VCALENDAR
VERSION:2.0
PRODID:-//Ciência no Ar - Programa de Extensão - UFMG
CALSCALE:GREGORIAN
METHOD:PUBLISH
X-WR-CALNAME:Ciência no Ar - Programa de Extensão - UFMG
X-ORIGINAL-URL:https://www.ufmg.br/ciencianoar/conteudo/biologia-e-morte/
X-WR-CALDESC:Biologia e morte
BEGIN:VEVENT
DTSTART:
DTEND:
SUMMARY:Biologia e morte
DESCRIPTION:Logo que pensamos em morte, lembramos de célula e da morte celular. E se eu te disser que é possível um corpo morrer sem que as células estejam mortas no momento do óbito? Ouça o programa para saber mais sobre esse assunto!

LOCATION:
END:VEVENT
END:VCALENDAR
