BEGIN:VCALENDAR
VERSION:2.0
PRODID:-//Ciência no Ar - Programa de Extensão - UFMG
CALSCALE:GREGORIAN
METHOD:PUBLISH
X-WR-CALNAME:Ciência no Ar - Programa de Extensão - UFMG
X-ORIGINAL-URL:https://www.ufmg.br/ciencianoar/conteudo/e-probiotico/
X-WR-CALDESC:É probiótico?
BEGIN:VEVENT
DTSTART:
DTEND:
SUMMARY:É probiótico?
DESCRIPTION:Probióticos são microorganismos que, quando ingeridos por alguém em quantidade adequada, promovem algum efeito benéfico à saúde desta pessoa. Você já ouviu falar neles? Ouça o programa para saber mais sobre esse assunto!

LOCATION:
END:VEVENT
END:VCALENDAR
