BEGIN:VCALENDAR
VERSION:2.0
PRODID:-//Ciência no Ar - Programa de Extensão - UFMG
CALSCALE:GREGORIAN
METHOD:PUBLISH
X-WR-CALNAME:Ciência no Ar - Programa de Extensão - UFMG
X-ORIGINAL-URL:https://www.ufmg.br/ciencianoar/conteudo/este-leite-e-fermentado/
X-WR-CALDESC:Este leite é fermentado!
BEGIN:VEVENT
DTSTART:
DTEND:
SUMMARY:Este leite é fermentado!
DESCRIPTION:É muito bom acordar e após o café da manhã tomar o delicioso iogurte, mas você sabia que ele não é o único leite fermentado? E se eu falasse que os outros tipos de leite fermentados estão mais próximos de você do que imagina? Ouça o programa para saber mais sobre esse assunto!

LOCATION:
END:VEVENT
END:VCALENDAR
