BEGIN:VCALENDAR
VERSION:2.0
PRODID:-//Ciência no Ar - Programa de Extensão - UFMG
CALSCALE:GREGORIAN
METHOD:PUBLISH
X-WR-CALNAME:Ciência no Ar - Programa de Extensão - UFMG
X-ORIGINAL-URL:https://www.ufmg.br/ciencianoar/conteudo/pequeno-e-veloz/
X-WR-CALDESC:Pequeno e veloz
BEGIN:VEVENT
DTSTART:
DTEND:
SUMMARY:Pequeno e veloz
DESCRIPTION:Você já deve ter visto um Beija-flor não é mesmo? Essa ave costuma ser tão pequena que não era de se surpreender que o menor pássaro do mundo fosse um beija flor concorda? Com 5 cm de comprimento e pesando 1,8 gramas o Beija-Flor Abelha é menor que o nosso dedo indicador. Ouça o programa completo para saber mais sobre o assunto!

LOCATION:
END:VEVENT
END:VCALENDAR
