BEGIN:VCALENDAR
VERSION:2.0
PRODID:-//Ciência no Ar - Programa de Extensão - UFMG
CALSCALE:GREGORIAN
METHOD:PUBLISH
X-WR-CALNAME:Ciência no Ar - Programa de Extensão - UFMG
X-ORIGINAL-URL:https://www.ufmg.br/ciencianoar/conteudo/proteinas-morte-controlada/
X-WR-CALDESC:Proteínas: morte controlada
BEGIN:VEVENT
DTSTART:
DTEND:
SUMMARY:Proteínas: morte controlada
DESCRIPTION:Você deve saber que as carnes são ricas em proteínas e que são muito importantes para a nossa saúde. Mas será que você sabe que as proteínas ajudam também a compor o nosso corpo entrando na constituição dos cabelos, unhas e músculos por exemplo? Ouça o programa completo para saber mais sobre o assunto!


LOCATION:
END:VEVENT
END:VCALENDAR
