BEGIN:VCALENDAR
VERSION:2.0
PRODID:-//Ciência no Ar - Programa de Extensão - UFMG
CALSCALE:GREGORIAN
METHOD:PUBLISH
X-WR-CALNAME:Ciência no Ar - Programa de Extensão - UFMG
X-ORIGINAL-URL:https://www.ufmg.br/ciencianoar/conteudo/a-vida-no-deserto/
X-WR-CALDESC:A vida no deserto
BEGIN:VEVENT
DTSTART:
DTEND:
SUMMARY:A vida no deserto
DESCRIPTION:Imagine um lugar que faz muito calor durante o dia, podendo atingir temperaturas de até 50°C! Já durante a noite, a temperatura cai bruscamente, acarretando em um frio intenso. Além disso, nesse local, as chuvas são raras e a superfície é coberta de areia. Já deu pra adivinhar qual região é essa? Ouça o programa completo para saber mais sobre o assunto!

LOCATION:
END:VEVENT
END:VCALENDAR
